BEGIN:VCALENDAR
VERSION:2.0
PRODID:-//EFA54&amp;55 - ECPv6.15.11//NONSGML v1.0//EN
CALSCALE:GREGORIAN
METHOD:PUBLISH
X-ORIGINAL-URL:https://test.efa5455.org
X-WR-CALDESC:Évènements pour EFA54&amp;55
REFRESH-INTERVAL;VALUE=DURATION:PT1H
X-Robots-Tag:noindex
X-PUBLISHED-TTL:PT1H
BEGIN:VTIMEZONE
TZID:Europe/Paris
BEGIN:DAYLIGHT
TZOFFSETFROM:+0100
TZOFFSETTO:+0200
TZNAME:CEST
DTSTART:20240331T010000
END:DAYLIGHT
BEGIN:STANDARD
TZOFFSETFROM:+0200
TZOFFSETTO:+0100
TZNAME:CET
DTSTART:20241027T010000
END:STANDARD
BEGIN:DAYLIGHT
TZOFFSETFROM:+0100
TZOFFSETTO:+0200
TZNAME:CEST
DTSTART:20250330T010000
END:DAYLIGHT
BEGIN:STANDARD
TZOFFSETFROM:+0200
TZOFFSETTO:+0100
TZNAME:CET
DTSTART:20251026T010000
END:STANDARD
BEGIN:DAYLIGHT
TZOFFSETFROM:+0100
TZOFFSETTO:+0200
TZNAME:CEST
DTSTART:20260329T010000
END:DAYLIGHT
BEGIN:STANDARD
TZOFFSETFROM:+0200
TZOFFSETTO:+0100
TZNAME:CET
DTSTART:20261025T010000
END:STANDARD
BEGIN:DAYLIGHT
TZOFFSETFROM:+0100
TZOFFSETTO:+0200
TZNAME:CEST
DTSTART:20270328T010000
END:DAYLIGHT
BEGIN:STANDARD
TZOFFSETFROM:+0200
TZOFFSETTO:+0100
TZNAME:CET
DTSTART:20271031T010000
END:STANDARD
END:VTIMEZONE
BEGIN:VEVENT
DTSTART;TZID=Europe/Paris:20260320T183000
DTEND;TZID=Europe/Paris:20260320T203000
DTSTAMP:20260421T185330
CREATED:20251001T183329Z
LAST-MODIFIED:20251001T183422Z
UID:3980-1774031400-1774038600@test.efa5455.org
SUMMARY:Accueil pour tous !
DESCRIPTION:EFA 54-55 vous convie à sa permanence bimestrielle \n\n\n\nVenez poser vos questions\, échanger avec des administrateurs et des membres \, consulter nos ouvrages de références dans un moment d’échange convivial. \n\n\n\nRencontres et échanges\n\n\n\n\nVous pourrez échanger avec des administrateurs et des membres de l’association\, qui seront disponibles pour vous accueillir et dialoguer.\n\n\n\n\nDécouverte de la bibliothèque\n\n\n\n\nUn large choix d’ouvrages est à votre disposition : vous pourrez les consulter sur place ou les emprunter.\n\n\n\n\nSoutien et informations\n\n\n\nVous pourrez poser vos premières questions\, recevoir des conseils pour vos démarches\, ou simplement partager vos expériences. \n\n\n\nNous vous présenterons les missions et activités de l’association.
URL:https://test.efa5455.org/event/accueil-pour-tous-copy-2
LOCATION:MJC Bazin\, 47 Rue Henri Bazin\, Nancy\, 54000\, France
CATEGORIES:Lieux d’accueil et bibliothèques
ORGANIZER;CN="EFA 54 & 55":MAILTO:contact@efa54-55.org
END:VEVENT
BEGIN:VEVENT
DTSTART;TZID=Europe/Paris:20260125T100000
DTEND;TZID=Europe/Paris:20260125T170000
DTSTAMP:20260421T185330
CREATED:20251001T191205Z
LAST-MODIFIED:20251001T191322Z
UID:4014-1769335200-1769360400@test.efa5455.org
SUMMARY:Journée « Galette des Rois »
DESCRIPTION:Nous avons le plaisir de vous inviter à un moment de partage et de bonne humeur autour de l’adoption.Ce sera l’occasion d’échanger ensemble sur différents sujets\, de répondre à vos questions\, et de profiter d’un repas convivial. \n\n\n\nAprès le déjeuner\, place à la gourmandise avec une délicieuse part de galette 🥧 pour bien commencer l’année ! \n\n\n\nPour les enfants\, des ateliers ludiques seront proposés afin qu’ils s’amusent en toute créativité\, et un le magicien Imaël viendra émerveiller petits et grands avec ses tours étonnants ✨🎩.
URL:https://test.efa5455.org/event/journee-galette-des-rois
LOCATION:villerupt\, villerupt\, 54190\, France
END:VEVENT
BEGIN:VEVENT
DTSTART;TZID=Europe/Paris:20260116T183000
DTEND;TZID=Europe/Paris:20260116T203000
DTSTAMP:20260421T185330
CREATED:20251001T183250Z
LAST-MODIFIED:20251001T185606Z
UID:3979-1768588200-1768595400@test.efa5455.org
SUMMARY:Accueil pour tous !
DESCRIPTION:EFA 54-55 vous convie à sa permanence bimestrielle \n\n\n\nVenez poser vos questions\, échanger avec des administrateurs et des membres \, consulter nos ouvrages de références dans un moment d’échange convivial. \n\n\n\nRencontres et échanges\n\n\n\n\nVous pourrez échanger avec des administrateurs et des membres de l’association\, qui seront disponibles pour vous accueillir et dialoguer.\n\n\n\n\nDécouverte de la bibliothèque\n\n\n\n\nUn large choix d’ouvrages est à votre disposition : vous pourrez les consulter sur place ou les emprunter.\n\n\n\n\nSoutien et informations\n\n\n\nVous pourrez poser vos premières questions\, recevoir des conseils pour vos démarches\, ou simplement partager vos expériences. \n\n\n\nNous vous présenterons les missions et activités de l’association.
URL:https://test.efa5455.org/event/accueil-pour-tous-copy
LOCATION:MJC Bazin\, 47 Rue Henri Bazin\, Nancy\, 54000\, France
CATEGORIES:Lieux d’accueil et bibliothèques
ORGANIZER;CN="EFA 54 & 55":MAILTO:contact@efa54-55.org
END:VEVENT
BEGIN:VEVENT
DTSTART;TZID=Europe/Paris:20251121T183000
DTEND;TZID=Europe/Paris:20251121T203000
DTSTAMP:20260421T185330
CREATED:20251001T183123Z
LAST-MODIFIED:20251001T183125Z
UID:3975-1763749800-1763757000@test.efa5455.org
SUMMARY:Accueil pour tous !
DESCRIPTION:EFA 54-55 vous convie à sa permanence bimestrielle \n\n\n\nVenez poser vos questions\, échanger avec des administrateurs et des membres \, consulter nos ouvrages de références dans un moment d’échange convivial. \n\n\n\nRencontres et échanges\n\n\n\n\nVous pourrez échanger avec des administrateurs et des membres de l’association\, qui seront disponibles pour vous accueillir et dialoguer.\n\n\n\n\nDécouverte de la bibliothèque\n\n\n\n\nUn large choix d’ouvrages est à votre disposition : vous pourrez les consulter sur place ou les emprunter.\n\n\n\n\nSoutien et informations\n\n\n\nVous pourrez poser vos premières questions\, recevoir des conseils pour vos démarches\, ou simplement partager vos expériences. \n\n\n\nNous vous présenterons les missions et activités de l’association.
URL:https://test.efa5455.org/event/accueil-pour-tous
LOCATION:MJC Bazin\, 47 Rue Henri Bazin\, Nancy\, 54000\, France
CATEGORIES:Lieux d’accueil et bibliothèques
ORGANIZER;CN="EFA 54 & 55":MAILTO:contact@efa54-55.org
END:VEVENT
BEGIN:VEVENT
DTSTART;TZID=Europe/Paris:20250627T183000
DTEND;TZID=Europe/Paris:20250627T203000
DTSTAMP:20260421T185330
CREATED:20241228T210637Z
LAST-MODIFIED:20251001T182553Z
UID:3566-1751049000-1751056200@test.efa5455.org
SUMMARY:Lieux d’accueil et bibliothèques
DESCRIPTION:EFA 54-55 vous convie à sa permanence bimestrielle \n\n\n\nVenez poser vos questions\, échanger avec des administrateurs et des membres \, consulter nos ouvrages de références dans un moment d’échange convivial \n\n\n\nRencontres et échanges\n\n\n\n\nVous pourrez échanger avec des administrateurs et des membres de l’association\, qui seront disponibles pour vous accueillir et dialoguer.\n\n\n\n\nDécouverte de la bibliothèque\n\n\n\n\nUn large choix d’ouvrages est à votre disposition : vous pourrez les consulter sur place ou les emprunter.\n\n\n\n\nSoutien et informations\n\n\n\nVous pourrez poser vos premières questions\, recevoir des conseils pour vos démarches\, ou simplement partager vos expériences. \n\n\n\nNous vous présenterons les missions et activités de l’association.
URL:https://test.efa5455.org/event/lieux-daccueil-et-bibliotheques-juin
LOCATION:MJC Bazin\, 47 Rue Henri Bazin\, Nancy\, 54000\, France
CATEGORIES:Lieux d’accueil et bibliothèques
ORGANIZER;CN="EFA 54 & 55":MAILTO:contact@efa54-55.org
END:VEVENT
BEGIN:VEVENT
DTSTART;TZID=Europe/Paris:20250622T110000
DTEND;TZID=Europe/Paris:20250622T170000
DTSTAMP:20260421T185330
CREATED:20241228T211110Z
LAST-MODIFIED:20250102T160204Z
UID:3569-1750590000-1750611600@test.efa5455.org
SUMMARY:Journée EFA 54&55
DESCRIPTION:Journée EFA 54&55 : Information\, échanges et convivialité autour de l’adoption \n\n\n\nPlusieurs fois par an\, EFA 54&55 organise des journées ouvertes à tous. Ces événements offrent une occasion unique de s’informer\, de partager des expériences et de renforcer les liens au sein de la communauté liée à l’adoption. \n\n\n\nUn programme riche et adapté à tous\n\n\n\nCes journées sont pensées pour répondre aux besoins de tous les participants : adoptés majeurs\, familles adoptives\, et futurs parents en démarche d’adoption. \n\n\n\nUn moment convivial autour du repas\n\n\n\nÀ midi\, les participants se retrouvent pour partager un repas convivial tiré du sac\, favorisant les échanges dans une ambiance chaleureuse. C’est l’occasion idéale pour discuter\, poser des questions\, et mieux comprendre les parcours et expériences de chacun. \n\n\n\nConférences\, ateliers et débats pour les adultes\n\n\n\nL’après-midi\, des ateliers pratiques et/ou des débats permettent aux participants de poser leurs questions\, de partager leurs préoccupations\, et de trouver des réponses adaptées à leurs besoins. \n\n\n\nActivités pour les enfants\n\n\n\nPendant que les adultes échangent\, les enfants profitent de jeux et d’activités. Ces moments sont conçus pour divertir les plus jeunes tout en favorisant leur épanouissement. \n\n\n\nPourquoi participer à une journée EFA 54&55 ?\n\n\n\nCes journées sont une source précieuse d’information et une occasion rare de rencontrer d’autres familles confrontées aux mêmes questions et enjeux. Elles permettent : \n\n\n\n\nDe bénéficier de conseils ;\n\n\n\nD’échanger avec d’autres parents et enfants adoptés;\n\n\n\nDe trouver du soutien et des réponses à des questions spécifiques.\n\n\n\n\nComment participer ?\n\n\n\nLes journées EFA 54&55 sont ouvertes à tous sur inscription.
URL:https://test.efa5455.org/event/journee-efa
ORGANIZER;CN="EFA 54 & 55":MAILTO:contact@efa54-55.org
END:VEVENT
BEGIN:VEVENT
DTSTART;TZID=Europe/Paris:20250523T183000
DTEND;TZID=Europe/Paris:20250523T203000
DTSTAMP:20260421T185331
CREATED:20241228T202805Z
LAST-MODIFIED:20250102T153539Z
UID:3546-1748025000-1748032200@test.efa5455.org
SUMMARY:Lieux d’accueil et bibliothèques
DESCRIPTION:Tous les deux mois\, de 18h30 à 20h30\, l’association EFA 54-55 propose un accueil-bibliothèque accessible à tous\, à la MJC Bazin de Nancy. \n\n\n\nRencontres et échanges\n\n\n\n\nVous pourrez échanger avec des administrateurs et des membres de l’association\, qui seront disponibles pour vous accueillir et dialoguer.\n\n\n\n\nDécouverte de la bibliothèque\n\n\n\n\nUn large choix d’ouvrages est à votre disposition : vous pourrez les consulter sur place ou les emprunter.\n\n\n\n\nSoutien et informations\n\n\n\nVous pourrez poser vos premières questions\, recevoir des conseils pour vos démarches\, ou simplement partager vos expériences. \n\n\n\nNous vous présenterons les missions et activités de l’association.
URL:https://test.efa5455.org/event/lieux-daccueil-et-bibliotheques-mai
LOCATION:MJC Bazin\, 47 Rue Henri Bazin\, Nancy\, 54000\, France
CATEGORIES:Lieux d’accueil et bibliothèques
ORGANIZER;CN="EFA 54 & 55":MAILTO:contact@efa54-55.org
END:VEVENT
BEGIN:VEVENT
DTSTART;TZID=Europe/Paris:20250321T183000
DTEND;TZID=Europe/Paris:20250321T203000
DTSTAMP:20260421T185331
CREATED:20241228T204234Z
LAST-MODIFIED:20250102T153657Z
UID:3556-1742581800-1742589000@test.efa5455.org
SUMMARY:Lieux d’accueil et bibliothèques
DESCRIPTION:Tous les deux mois\, de 18h30 à 20h30\, l’association EFA 54-55 propose un accueil-bibliothèque accessible à tous\, à la MJC Bazin de Nancy. \n\n\n\nRencontres et échanges\n\n\n\n\nVous pourrez échanger avec des administrateurs et des membres de l’association\, qui seront disponibles pour vous accueillir et dialoguer.\n\n\n\n\nDécouverte de la bibliothèque\n\n\n\n\nUn large choix d’ouvrages est à votre disposition : vous pourrez les consulter sur place ou les emprunter.\n\n\n\n\nSoutien et informations\n\n\n\nVous pourrez poser vos premières questions\, recevoir des conseils pour vos démarches\, ou simplement partager vos expériences. \n\n\n\nNous vous présenterons les missions et activités de l’association.
URL:https://test.efa5455.org/event/lieux-daccueil-et-bibliotheques-mars
LOCATION:MJC Bazin\, 47 Rue Henri Bazin\, Nancy\, 54000\, France
CATEGORIES:Lieux d’accueil et bibliothèques
ATTACH;FMTTYPE=image/jpeg:https://test.efa5455.org/wp-content/uploads/2020/11/Bibliothque_EFA_Nancy.jpg
ORGANIZER;CN="EFA 54 & 55":MAILTO:contact@efa54-55.org
END:VEVENT
BEGIN:VEVENT
DTSTART;TZID=Europe/Paris:20250124T080000
DTEND;TZID=Europe/Paris:20250124T083000
DTSTAMP:20260421T185331
CREATED:20241228T204010Z
LAST-MODIFIED:20250102T153820Z
UID:3554-1737705600-1737707400@test.efa5455.org
SUMMARY:Lieux d’accueil et bibliothèques – Janvier
DESCRIPTION:Tous les deux mois\, de 18h30 à 20h30\, l’association EFA 54-55 propose un accueil-bibliothèque accessible à tous\, à la MJC Bazin de Nancy. \n\n\n\nRencontres et échanges\n\n\n\n\nVous pourrez échanger avec des administrateurs et des membres de l’association\, qui seront disponibles pour vous accueillir et dialoguer.\n\n\n\n\nDécouverte de la bibliothèque\n\n\n\n\nUn large choix d’ouvrages est à votre disposition : vous pourrez les consulter sur place ou les emprunter.\n\n\n\n\nSoutien et informations\n\n\n\nVous pourrez poser vos premières questions\, recevoir des conseils pour vos démarches\, ou simplement partager vos expériences. \n\n\n\nNous vous présenterons les missions et activités de l’association.
URL:https://test.efa5455.org/event/lieux-daccueil-et-bibliotheques-janvier
LOCATION:MJC Bazin\, 47 Rue Henri Bazin\, Nancy\, 54000\, France
CATEGORIES:Lieux d’accueil et bibliothèques
ORGANIZER;CN="EFA 54 & 55":MAILTO:contact@efa54-55.org
END:VEVENT
END:VCALENDAR